BEGIN:VCALENDAR
VERSION:2.0
PRODID:-//wp-events-plugin.com//7.2.3.1//EN
TZID:Europe/Rome
X-WR-TIMEZONE:Europe/Rome
BEGIN:VEVENT
UID:3281@castelloditabiano.com
DTSTART;TZID=Europe/Rome:20250501T100000
DTEND;TZID=Europe/Rome:20250501T180000
DTSTAMP:20250430T095821Z
URL:https://www.castelloditabiano.com/events/aquile-e-gufi-in-volo-al-cast
 ello-di-tabiano-grandi-spettacoli-di-falconeria-nellantico-maniero-10/
SUMMARY:AQUILE E GUFI IN VOLO AL CASTELLO DI TABIANO - GRANDI SPETTACOLI DI
  FALCONERIA NELL’ANTICO MANIERO
DESCRIPTION:Al Castello di Tabiano\, iniziano gli appuntamenti del 2025 per
  ammirare da vicino aquile\, falchi\, gufi e barbagianni\, seguirne le pro
 ve di volo e\, con la guida di un esperto Maestro Falconiere\, conoscere i
  segreti di quest’arte antichissima e nobile\, praticata da Re e Imperat
 ori.\n\nPrima degli spettacoli di falconeria è possibile partecipare alle
  visite guidate in Castello.\n\nGiovedì 01 maggio\, al Castello di Tabian
 o\, un esperto Maestro Falconiere guiderà gli ospiti alla scoperta dei se
 greti della falconeria\, un’arte antichissima e nobile\, praticata da Re
  e Imperatori e attualmente ancora in alcune parti del globo. Gli spettaco
 li di falconeria saranno alle ore 11.00 e alle ore 17.00 e prima e dopo è
  possibile partecipare alle visite guidate in Castello.\n\n“Abbiamo deci
 so di organizzare questo spettacolo per ripercorrere una tradizione di gra
 nde importanza del Castello -spiega Giacomo Corazza Martini\, proprietario
  del castello e autore di diversi volumi sulla storia di Tabiano -. Infatt
 i\, la caccia con il falcone era l’attività preferita dell’Imperatore
  Federico II di Svevia\, alleato del Marchese Uberto Pallavicino il Grande
 \, signore di Tabiano nel XIII secolo”.\n\nLe visite guidate inizieranno
  alle ore 10.00 - 11.00 - 16.00 e 17.00 per la durata di circa un’ora co
 n un percorso che attraversa le sale decorate con affreschi\, specchi\, st
 emmi\, le ampie cantine a volta\, il parco di piante secolari\, le  terr
 azze panoramiche\, lo scalone d’onore e l’antica biblioteca.\n\nNELLA 
 GIORNATA ODIERNA\, I CANI NON SONO AMMESSI\, IN QUANTO POSSONO SPAVENTARE 
 I RAPACI
ATTACH;FMTTYPE=image/jpeg:https://www.castelloditabiano.com/wp-content/upl
 oads/2023/02/Pesci-Negozio-Pesce-rosso-Animale-domestico-Foto-Collage.png
CATEGORIES:In evidenza,Visite speciali
END:VEVENT
BEGIN:VTIMEZONE
TZID:Europe/Rome
X-LIC-LOCATION:Europe/Rome
BEGIN:DAYLIGHT
DTSTART:20250330T030000
TZOFFSETFROM:+0100
TZOFFSETTO:+0200
TZNAME:CEST
END:DAYLIGHT
END:VTIMEZONE
END:VCALENDAR