BEGIN:VCALENDAR
VERSION:2.0
PRODID:-//wp-events-plugin.com//7.2.3.1//EN
TZID:Europe/Rome
X-WR-TIMEZONE:Europe/Rome
BEGIN:VEVENT
UID:2712@castelloditabiano.com
DTSTART;TZID=Europe/Rome:20240609T100000
DTEND;TZID=Europe/Rome:20240609T180000
DTSTAMP:20240608T145128Z
URL:https://www.castelloditabiano.com/events/aquile-e-gufi-in-volo-al-cast
 ello-di-tabiano-grandi-spettacoli-di-falconeria-nellantico-maniero-2/
SUMMARY:AQUILE E GUFI IN VOLO AL CASTELLO DI TABIANO - GRANDI SPETTACOLI DI
  FALCONERIA NELL’ANTICO MANIERO
DESCRIPTION:Al Castello di Tabiano\, iniziano gli appuntamenti del 2024 per
  ammirare da vicino aquile\, falchi\, gufi e barbagianni\, seguirne le pro
 ve di volo e\, con la guida di un esperto Maestro Falconiere\, conoscere i
  segreti di quest’arte antichissima e nobile\, praticata da Re e Imperat
 ori.\n\nPrima degli spettacoli di falconeria è possibile partecipare alle
  visite guidate in Castello.\n\nAmmirare da vicino aquile\, falchi\, gufi 
 e barbagianni e seguirne le prove di volo\, in un grande spettacolo di fal
 coneria.  Domenica 9 giugno\, al Castello di Tabiano\, un esperto Maestro
  Falconiere guiderà gli ospiti alla scoperta dei segreti della falconeria
 \, un’arte antichissima e nobile\, praticata da Re e Imperatori e attual
 mente ancora in alcune parti del globo. Gli spettacoli di falconeria saran
 no alle ore 11.00 e alle ore 17.00 e prima e dopo è possibile partecipare
  alle visite guidate in Castello.\n\n“Abbiamo deciso di organizzare ques
 to spettacolo per ripercorrere una tradizione di grande importanza del Cas
 tello -spiega Giacomo Corazza Martini\, proprietario del castello e autore
  di diversi volumi sulla storia di Tabiano -. Infatti\, la caccia con il f
 alcone era l’attività preferita dell’Imperatore Federico II di Svevia
 \, alleato del Marchese Uberto Pallavicino il Grande\, signore di Tabiano 
 nel XIII secolo”.\n\nGli spettacoli di falconeria si terranno domenica 2
 6 maggio\, domenica 9 giugno\, domenica 14 luglio\, domenica 4 e giovedì 
 15 agosto\, domenica 8 settembre 2024\n\nLe visite guidate inizieranno all
 e ore 10.00 - 11.00 - 15.00 - 16.00 e 17.00 per la durata di circa un’or
 a con un percorso che attraversa le sale decorate con affreschi\, specchi\
 , stemmi\, le ampie cantine a volta\, il parco di piante secolari\, le  
 terrazze panoramiche\, lo scalone d’onore e l’antica biblioteca.
ATTACH;FMTTYPE=image/jpeg:https://www.castelloditabiano.com/wp-content/upl
 oads/2023/02/Pesci-Negozio-Pesce-rosso-Animale-domestico-Foto-Collage.png
CATEGORIES:In evidenza,Visite speciali
END:VEVENT
BEGIN:VTIMEZONE
TZID:Europe/Rome
X-LIC-LOCATION:Europe/Rome
BEGIN:DAYLIGHT
DTSTART:20240331T030000
TZOFFSETFROM:+0100
TZOFFSETTO:+0200
TZNAME:CEST
END:DAYLIGHT
END:VTIMEZONE
END:VCALENDAR