BEGIN:VCALENDAR
VERSION:2.0
PRODID:-//wp-events-plugin.com//7.2.3.1//EN
TZID:Europe/Rome
X-WR-TIMEZONE:Europe/Rome
BEGIN:VEVENT
UID:3794@castelloditabiano.com
DTSTART;TZID=Europe/Rome:20260406T100000
DTEND;TZID=Europe/Rome:20260406T180000
DTSTAMP:20260319T083913Z
URL:https://www.castelloditabiano.com/events/aquile-e-gufi-in-volo-al-cast
 ello-di-tabiano-grandi-spettacoli-di-falconeria-nellantico-maniero-pasquet
 ta/
SUMMARY:AQUILE E GUFI IN VOLO AL CASTELLO DI TABIANO - GRANDI SPETTACOLI DI
  FALCONERIA E VISITE GUIDATE NELL'ANTICO MANIERO
DESCRIPTION:Lunedì 06 aprile al Castello di Tabiano vi guideremo alla scop
 erta dei segreti della falconeria\, un’arte antichissima e nobile\, prat
 icata da Re e Imperatori e attualmente ancora in alcune parti del globo. G
 li spettacoli di falconeria si terranno alle ore 11.00 e alle ore 17.00 e
  prima e dopo è possibile partecipare alle visite guidate in Castello.\n\
 n“Abbiamo deciso di organizzare questo spettacolo per ripercorrere una t
 radizione di grande importanza del Castello -spiega Giacomo Corazza Martin
 i\, proprietario del castello e autore di diversi volumi sulla storia di T
 abiano -. Infatti\, la caccia con il falcone era l’attività preferita d
 ell’Imperatore Federico II di Svevia\, alleato del Marchese Uberto Palla
 vicino il Grande\, signore di Tabiano nel XIII secolo”.\n\nLe visite gui
 date inizieranno alle ore 10.00 – 11.00 – 16.00 e 17.00 per la durata
  di circa un’ora con un percorso che attraversa le sale decorate con aff
 reschi\, specchi\, stemmi\, le ampie cantine a volta\, il parco di piante
  secolari\, le  terrazze panoramiche\, lo scalone d’onore e l’antica 
 biblioteca.\n\n&nbsp\;\n\nI CANI NON SONO AMMESSI\, IN QUANTO SPAVENTANO I
  RAPACI.\n\nL'ingresso al Castello con parcheggio si trova attraverso il c
 ancello di fronte la Chiesa di S. Gervasio e Protasio\n\n&nbsp\;\n\n&nbsp\
 ;
ATTACH;FMTTYPE=image/jpeg:https://www.castelloditabiano.com/wp-content/upl
 oads/2023/02/Pesci-Negozio-Pesce-rosso-Animale-domestico-Foto-Collage.png
CATEGORIES:In evidenza,Visite speciali
END:VEVENT
BEGIN:VTIMEZONE
TZID:Europe/Rome
X-LIC-LOCATION:Europe/Rome
BEGIN:DAYLIGHT
DTSTART:20260329T030000
TZOFFSETFROM:+0100
TZOFFSETTO:+0200
TZNAME:CEST
END:DAYLIGHT
END:VTIMEZONE
END:VCALENDAR