BEGIN:VCALENDAR
VERSION:2.0
PRODID:-//wp-events-plugin.com//7.2.3.1//EN
TZID:Europe/Rome
X-WR-TIMEZONE:Europe/Rome
BEGIN:VEVENT
UID:247@castelloditabiano.com
DTSTART;VALUE=DATE:20211128
DTEND;VALUE=DATE:20211129
DTSTAMP:20211128T104755Z
URL:https://www.castelloditabiano.com/events/grande-festa-della-castagna-e
 -del-vin-brule/
SUMMARY:Grande Festa della Castagna e del Vin Brulè
DESCRIPTION:Per ‘salutare’ novembre e festeggiare l’inizio della stag
 ione natalizia\, domenica 28 novembre il Castello di Tabiano organizza una
  merenda per grandi e piccini: dopo la visita guidata al Castello\, gli os
 piti si riuniranno nella Sala della Caccia per gustare le caldarroste prep
 arate nell’antico camino\, dolci alle castagne e vin brulè!\nOrari dell
 e visite con castagne e vin brûlé: 15.00 e 16.30\nIngresso adulti 16 eur
 o\, bambini 6-12 anni 10 euro\, gratis per i più piccoli\nObbligo di gree
 n pass e prenotazione obbligatoria.
ATTACH;FMTTYPE=image/jpeg:https://www.castelloditabiano.com/wp-content/upl
 oads/2021/11/castagnata_sito-1.png
LOCATION:Castello di Tabiano\, Via Castello\, 1 - Tabiano Castello\, Salsom
 aggiore Terme\, PR\, 43039\, Emilia Romagna\, Italia
X-APPLE-STRUCTURED-LOCATION;VALUE=URI;X-ADDRESS=Via Castello\, 1 - Tabiano 
 Castello\, Salsomaggiore Terme\, PR\, 43039\, Emilia Romagna\, Italia;X-AP
 PLE-RADIUS=100;X-TITLE=Castello di Tabiano:geo:0,0
END:VEVENT
END:VCALENDAR