BEGIN:VCALENDAR
VERSION:2.0
PRODID:-//wp-events-plugin.com//7.2.3.1//EN
TZID:Europe/Rome
X-WR-TIMEZONE:Europe/Rome
BEGIN:VEVENT
UID:1138@castelloditabiano.com
DTSTART;TZID=Europe/Rome:20220807T100000
DTEND;TZID=Europe/Rome:20220807T110000
DTSTAMP:20220805T141751Z
URL:https://www.castelloditabiano.com/events/guided-tour-in-english-8-2022
 -08-07/
SUMMARY:Guided tour in English
DESCRIPTION:We inform you that on Sunday 7 August to access the visits to t
 he castle it will be necessary to take the road from Fidenza to Cogolonchi
 o until you arrive at the Castle (which you will find on your left). Not f
 rom Tabiano as the road will be closed\, therefore the entrance to the par
 king will be the one under the castle\, indicated by the signs.
CATEGORIES:Visite
END:VEVENT
BEGIN:VTIMEZONE
TZID:Europe/Rome
X-LIC-LOCATION:Europe/Rome
BEGIN:DAYLIGHT
DTSTART:20220327T030000
TZOFFSETFROM:+0100
TZOFFSETTO:+0200
TZNAME:CEST
END:DAYLIGHT
END:VTIMEZONE
END:VCALENDAR