BEGIN:VCALENDAR
VERSION:2.0
PRODID:-//wp-events-plugin.com//7.2.3.1//EN
TZID:Europe/Rome
X-WR-TIMEZONE:Europe/Rome
BEGIN:VEVENT
UID:1217@castelloditabiano.com
DTSTART;TZID=Europe/Rome:20221002T100000
DTEND;TZID=Europe/Rome:20221002T110000
DTSTAMP:20220927T153159Z
URL:https://www.castelloditabiano.com/events/guided-tour-in-english-9-2022
 -10-02/
SUMMARY:Guided tour in English
DESCRIPTION:
CATEGORIES:Visite
END:VEVENT
BEGIN:VTIMEZONE
TZID:Europe/Rome
X-LIC-LOCATION:Europe/Rome
BEGIN:DAYLIGHT
DTSTART:20220327T030000
TZOFFSETFROM:+0100
TZOFFSETTO:+0200
TZNAME:CEST
END:DAYLIGHT
END:VTIMEZONE
END:VCALENDAR