BEGIN:VCALENDAR
VERSION:2.0
PRODID:-//wp-events-plugin.com//7.2.3.1//EN
TZID:Europe/Rome
X-WR-TIMEZONE:Europe/Rome
BEGIN:VEVENT
UID:196@castelloditabiano.com
DTSTART:20210916T213000Z
DTEND:20210916T230000Z
DTSTAMP:20210915T094639Z
URL:https://www.castelloditabiano.com/events/penny-ice-cream-2021-09-16/
SUMMARY:Penny Ice Cream
DESCRIPTION:ULTIMO APPUNTAMENTO – ANCHE IN CASO DI PIOGGIA\n\nVi aspettia
 mo alle ore 21.30 sulle terrazze del Castello di Tabiano per gustare un ge
 lato e visitare il Castello di notte.\nI castelli\, si sa\, erano le dimor
 e di re e imperatori\, ma al Castello di Tabiano ha lasciato il segno un r
 e un po’ speciale: Carlo Gatti\, il Re del Ghiaccio!\nGiunto a Londra a 
 metà dell’Ottocento con poco in tasca e molte idee\, Carlo Gatti accumu
 la in poco tempo un’importante fortuna importando il ghiaccio dalla Norv
 egia. Carlo usa il ghiaccio\, che distribuisce in tutti i caffè\, ristora
 nti e negozi di Londra\, anche per fare il gelato da vendere lungo la stra
 da ad un prezzo per tutti\, il penny ice-cream!\nÈ con la fortuna abilmen
 te guadagnata da Carlo che la figlia Rosa e il genero Giacomo Corazza potr
 anno comprare e dare nuova vita al Castello di Tabiano\, ancora oggi abita
 to dai loro discendenti.\nAffacciati sulle fresche terrazze del Castello d
 i Tabiano\, vi invitiamo a gustare un gelato ammirando il vasto panorama n
 otturno e ascoltando le storie del Castello e dei tanti personaggi che lo 
 hanno animato. Dopo il gelato\, le nostre guide vi accompagneranno per una
  particolare visita notturna al Castello nelle suggestive cantine e negli 
 ampi saloni riccamente decorati.
ATTACH;FMTTYPE=image/jpeg:https://www.castelloditabiano.com/wp-content/upl
 oads/2021/06/penny.jpg
CATEGORIES:Visite speciali
LOCATION:Castello di Tabiano\, Via Castello\, 1 - Tabiano Castello\, Salsom
 aggiore Terme\, PR\, 43039\, Emilia Romagna\, Italia
X-APPLE-STRUCTURED-LOCATION;VALUE=URI;X-ADDRESS=Via Castello\, 1 - Tabiano 
 Castello\, Salsomaggiore Terme\, PR\, 43039\, Emilia Romagna\, Italia;X-AP
 PLE-RADIUS=100;X-TITLE=Castello di Tabiano:geo:0,0
END:VEVENT
END:VCALENDAR