BEGIN:VCALENDAR
VERSION:2.0
PRODID:-//wp-events-plugin.com//7.2.3.1//EN
TZID:Europe/Rome
X-WR-TIMEZONE:Europe/Rome
BEGIN:VEVENT
UID:1121@castelloditabiano.com
DTSTART:20220901T213000Z
DTEND:20220901T230000Z
DTSTAMP:20220826T083019Z
URL:https://www.castelloditabiano.com/events/penny-ice-cream-8/
SUMMARY:Penny Ice Cream
DESCRIPTION:I giovedì d’estate\, alle ore 21.30\, vi aspettiamo sulle te
 rrazze del Castello di Tabiano per gustare un gelato e visitare il Castell
 o di notte.\nI castelli\, si sa\, erano le dimore di re e imperatori\, ma 
 al Castello di Tabiano ha lasciato il segno un re un po’ speciale: Carlo
  Gatti\, il Re del Ghiaccio!\nGiunto a Londra a metà dell’Ottocento con
  poco in tasca e molte idee\, Carlo Gatti accumula in poco tempo un’impo
 rtante fortuna importando il ghiaccio dalla Norvegia. Carlo usa il ghiacci
 o\, che distribuisce in tutti i caffè\, ristoranti e negozi di Londra\, a
 nche per fare il gelato da vendere lungo la strada ad un prezzo per tutti\
 , il penny ice-cream!\nÈ con la fortuna abilmente guadagnata da Carlo che
  la figlia Rosa e il genero Giacomo Corazza potranno comprare e dare nuova
  vita al Castello di Tabiano\, ancora oggi abitato dai loro discendenti.\n
 Affacciati sulle fresche terrazze del Castello di Tabiano\, vi invitiamo a
  gustare un gelato ammirando il vasto panorama notturno e ascoltando le st
 orie del Castello e dei tanti personaggi che lo hanno animato. Dopo il gel
 ato\, le nostre guide vi accompagneranno per una particolare visita nottur
 na al Castello nelle suggestive cantine e negli ampi saloni riccamente dec
 orati.\nSi informa che il parcheggio per accedere alle visite guidate si t
 rova direttamente in Castello (chiediamo pertanto di non parcheggiare nei 
 posti dedicati agli ospiti del borgo sottostante).\n\nPer accedere sarà n
 ecessario percorrere la strada da Fidenza e TABIANO BAGNI fino ad arrivare
  al Castello di Tabiano (l’ingresso al parcheggio si trova di fronte all
 a chiesa S. Gervasio).\nNon da Siccomonte\, Cogolonchio o Costamezzana in 
 quanto un tratto di strada rimarrà CHIUSO.
ATTACH;FMTTYPE=image/jpeg:https://www.castelloditabiano.com/wp-content/upl
 oads/2021/06/penny.jpg
CATEGORIES:Visite speciali
END:VEVENT
END:VCALENDAR