BEGIN:VCALENDAR
VERSION:2.0
PRODID:-//wp-events-plugin.com//7.2.3.1//EN
TZID:Europe/Rome
X-WR-TIMEZONE:Europe/Rome
BEGIN:VEVENT
UID:2535@castelloditabiano.com
DTSTART;TZID=Europe/Rome;VALUE=DATE:20231015
DTEND;TZID=Europe/Rome;VALUE=DATE:20231016
DTSTAMP:20231001T124603Z
URL:https://www.castelloditabiano.com/events/re-in-volo-spettacoli-di-falc
 oneria-6/
SUMMARY:Re in volo. Spettacoli di falconeria
DESCRIPTION:La Natura offre spettacoli meravigliosi a chi sa osservare.\n\n
 Al Castello di Tabiano un ultimo appuntamento domenica 15 ottobre per ammi
 rare da vicino aquile\, falchi\, gufi e barbagianni\, seguirne le prove di
  volo e\, con la guida di un esperto Maestro Falconiere\, conoscere i segr
 eti di quest’arte antichissima e nobile\, praticata da Re e Imperatori.\
 n\nL’uomo medievale era continuamente in contatto con la Natura\, il suo
  paesaggio quotidiano era fatto di foreste popolate da animali selvaggi. L
 a caccia era uno dei principali momenti in cui l’uomo poteva incontrare 
 direttamente l’animale\, studiarlo\, comprenderlo e la falconeria in par
 ticolare\, con il suo contatto intimo e diretto con animali selvaggi come 
 i rapaci\, era per l’uomo medievale l’occasione per osservare la Natur
 a\, per conoscerla empiricamente.\n\nPrima degli spettacoli di falconeria 
 è possibile partecipare alle visite guidate in Castello.\n\nProgramma:\nh
  10.00 – visita guidata al Castello\nh 11.00 - visita guidata al Castell
 o\nh 11.00 – spettacolo di falconeria\n\nh 15.00 – visita guidata al C
 astello\nh 16.00 – visita guidata al Castello\nh 17.00 – spettacolo di
  falconeria\n\nLa visita guidata al Castello ha durata di c.a. 1h mentre l
 o spettacolo di falconeria 1h30 c.a.\n\nIn quest'occasione i cani NON SARA
 NNO ammessi in quanto spaventano i rapaci. \n\n\nPer prenotare SOLO la vi
 sita guidata al Castello\, selezionare l'evento "Visita Guidata" nel calen
 dario degli eventi.
ATTACH;FMTTYPE=image/jpeg:https://www.castelloditabiano.com/wp-content/upl
 oads/2023/02/Pesci-Negozio-Pesce-rosso-Animale-domestico-Foto-Collage.png
CATEGORIES:In evidenza,Visite
END:VEVENT
BEGIN:VTIMEZONE
TZID:Europe/Rome
X-LIC-LOCATION:Europe/Rome
BEGIN:DAYLIGHT
DTSTART:20230326T030000
TZOFFSETFROM:+0100
TZOFFSETTO:+0200
TZNAME:CEST
END:DAYLIGHT
END:VTIMEZONE
END:VCALENDAR