BEGIN:VCALENDAR
VERSION:2.0
PRODID:-//wp-events-plugin.com//7.2.3.1//EN
TZID:Europe/Rome
X-WR-TIMEZONE:Europe/Rome
BEGIN:VEVENT
UID:74@castelloditabiano.com
DTSTART:20210711T100000Z
DTEND:20210711T180000Z
DTSTAMP:20210608T115414Z
URL:https://www.castelloditabiano.com/events/re-in-volo-spettacolo-di-falc
 oneria-2/
SUMMARY:Re in volo. Spettacolo di falconeria
DESCRIPTION:La Natura offre spettacoli meravigliosi a chi sa osservare. L
 ’uomo medievale era continuamente in contatto con la Natura\, il suo pae
 saggio quotidiano era fatto di foreste popolate da animali selvaggi. La ca
 ccia era uno dei principali momenti in cui l’uomo poteva incontrare dire
 ttamente l’animale\, studiarlo\, comprenderlo e la falconeria in partico
 lare\, con il suo contatto intimo e diretto con animali selvaggi come i ra
 paci\, era per l’uomo medievale l’occasione per osservare la Natura\, 
 per conoscerla empiricamente.\nAl Castello di Tabiano quattro appuntamenti
  per ammirare da vicino aquile\, falchi\, gufi e barbagianni\, seguirne le
  prove di volo e\, con la guida di un esperto Maestro Falconiere\, conosce
 re i segreti di quest’arte antichissima e nobile\, praticata da Re e Imp
 eratori.\nPrima degli spettacoli di falconeria è possibile partecipare al
 le visite guidate in Castello.\n\nProgramma:\nh 10.00 – visita guidata a
 l Castello\nh 11.00 – falconeria\nh 16.00 – visita guidata al Castello
 \nh 17.00 – falconeria\n\n(Tutte le date: domenica 30 maggio\, 13 giugno
 \, 11 luglio e 25 luglio)\n\nPer prenotare SOLO la visita guidata al Caste
 llo\, selezionare l'evento "Visita Guidata" nel calendario degli eventi.
ATTACH;FMTTYPE=image/jpeg:https://www.castelloditabiano.com/wp-content/upl
 oads/2021/05/re-in-volo.jpg
CATEGORIES:Visite speciali
LOCATION:Castello di Tabiano\, Via Castello\, 1 - Tabiano Castello\, Salsom
 aggiore Terme\, PR\, 43039\, Emilia Romagna\, Italia
X-APPLE-STRUCTURED-LOCATION;VALUE=URI;X-ADDRESS=Via Castello\, 1 - Tabiano 
 Castello\, Salsomaggiore Terme\, PR\, 43039\, Emilia Romagna\, Italia;X-AP
 PLE-RADIUS=100;X-TITLE=Castello di Tabiano:geo:0,0
END:VEVENT
END:VCALENDAR