BEGIN:VCALENDAR
VERSION:2.0
PRODID:-//wp-events-plugin.com//7.2.3.1//EN
TZID:Europe/Rome
X-WR-TIMEZONE:Europe/Rome
BEGIN:VEVENT
UID:627@castelloditabiano.com
DTSTART:20220423T100000Z
DTEND:20220423T110000Z
DTSTAMP:20220407T071907Z
URL:https://www.castelloditabiano.com/events/visita-castello-2022-04-23/
SUMMARY:Visita guidata
DESCRIPTION:
END:VEVENT
END:VCALENDAR