BEGIN:VCALENDAR
VERSION:2.0
PRODID:-//wp-events-plugin.com//7.2.3.1//EN
TZID:Europe/Rome
X-WR-TIMEZONE:Europe/Rome
BEGIN:VEVENT
UID:864@castelloditabiano.com
DTSTART:20220808T170000Z
DTEND:20220808T180000Z
DTSTAMP:20220407T073138Z
URL:https://www.castelloditabiano.com/events/visita-guidata-10-2022-08-08/
SUMMARY:Visita guidata
DESCRIPTION:
END:VEVENT
END:VCALENDAR