BEGIN:VCALENDAR
VERSION:2.0
PRODID:-//wp-events-plugin.com//7.2.3.1//EN
TZID:Europe/Rome
X-WR-TIMEZONE:Europe/Rome
BEGIN:VEVENT
UID:892@castelloditabiano.com
DTSTART:20220825T170000Z
DTEND:20220825T180000Z
DTSTAMP:20220821T073058Z
URL:https://www.castelloditabiano.com/events/visita-guidata-11-2022-08-25/
SUMMARY:Visita guidata
DESCRIPTION:Si informa che per accedere alle visite al Castello sarà neces
 sario percorrere la strada da Fidenza e TABIANO BAGNI fino ad arrivare al 
 Castello di Tabiano (l'ingresso al parcheggio si trova di fronte alla chie
 sa S. Gervasio). Non da Siccomonte\, Cogolonchio o Costamezzana in quanto 
 un tratto di strada rimarrà CHIUSO.
CATEGORIES:Visite
END:VEVENT
END:VCALENDAR