BEGIN:VCALENDAR
VERSION:2.0
PRODID:-//wp-events-plugin.com//7.2.3.1//EN
TZID:Europe/Rome
X-WR-TIMEZONE:Europe/Rome
BEGIN:VEVENT
UID:1148@castelloditabiano.com
DTSTART;TZID=Europe/Rome:20220815T110000
DTEND;TZID=Europe/Rome:20220815T120000
DTSTAMP:20220805T142438Z
URL:https://www.castelloditabiano.com/events/visita-guidata-29/
SUMMARY:Visita guidata
DESCRIPTION:
CATEGORIES:Visite
END:VEVENT
BEGIN:VTIMEZONE
TZID:Europe/Rome
X-LIC-LOCATION:Europe/Rome
BEGIN:DAYLIGHT
DTSTART:20220327T030000
TZOFFSETFROM:+0100
TZOFFSETTO:+0200
TZNAME:CEST
END:DAYLIGHT
END:VTIMEZONE
END:VCALENDAR