BEGIN:VCALENDAR
VERSION:2.0
PRODID:-//wp-events-plugin.com//7.2.3.1//EN
TZID:Europe/Rome
X-WR-TIMEZONE:Europe/Rome
BEGIN:VEVENT
UID:3699@castelloditabiano.com
DTSTART;TZID=Europe/Rome:20251207T110000
DTEND;TZID=Europe/Rome:20251207T110000
DTSTAMP:20251215T105216Z
URL:https://www.castelloditabiano.com/events/visita-guidata-ore-11-19-2025
 -12-07/
SUMMARY:Visita guidata ore 11
DESCRIPTION:Il percorso (circa 45 minuti) vi condurrà tra ambienti ricchi 
 di fascino e storia: le antiche cantine a volta\, i saloni affrescati e de
 corati con stucchi\, lo scenografico scalone d’onore e le terrazze panor
 amiche con viste mozzafiato sulle colline.\n&nbsp\;\n\nL’ingresso con pa
 rcheggio si trova attraverso il cancello davanti la Chiesa di SS Gervasio 
 e Protasio
CATEGORIES:Visite
LOCATION:Castello di Tabiano\, Via Castello\, 1 - Tabiano Castello\, Salsom
 aggiore Terme\, PR\, 43039\, Emilia Romagna\, Italia
X-APPLE-STRUCTURED-LOCATION;VALUE=URI;X-ADDRESS=Via Castello\, 1 - Tabiano 
 Castello\, Salsomaggiore Terme\, PR\, 43039\, Emilia Romagna\, Italia;X-AP
 PLE-RADIUS=100;X-TITLE=Castello di Tabiano:geo:0,0
END:VEVENT
BEGIN:VTIMEZONE
TZID:Europe/Rome
X-LIC-LOCATION:Europe/Rome
BEGIN:STANDARD
DTSTART:20251026T020000
TZOFFSETFROM:+0200
TZOFFSETTO:+0100
TZNAME:CET
END:STANDARD
END:VTIMEZONE
END:VCALENDAR