BEGIN:VCALENDAR
VERSION:2.0
PRODID:-//wp-events-plugin.com//7.2.3.1//EN
TZID:Europe/Rome
X-WR-TIMEZONE:Europe/Rome
BEGIN:VEVENT
UID:3782@castelloditabiano.com
DTSTART;TZID=Europe/Rome:20260329T110000
DTEND;TZID=Europe/Rome:20260329T110000
DTSTAMP:20260221T141956Z
URL:https://www.castelloditabiano.com/events/visita-guidata-ore-11-22-2026
 -03-14-2026-03-15-2026-03-21-2026-03-22-2026-03-28-2026-03-29/
SUMMARY:Visita guidata ore 11
DESCRIPTION:Il Castello di Tabiano è un’abitazione privata visitabile so
 lo accompagnati da una guida del Castello.\n\nIl percorso di visita dura c
 irca 45 minuti e attraversa i luoghi più affascinanti del maniero: le ant
 iche cantine a volta\, i meravigliosi saloni decorati con stucchi e affres
 chi\, lo scalone d’onore\, le terrazze panoramiche.\n\n&nbsp\;\n\nL’in
 gresso con parcheggio si trova attraverso il cancello davanti la Chiesa di
  SS Gervasio e Protasio
CATEGORIES:Visite
LOCATION:Castello di Tabiano\, Via Castello\, 1 - Tabiano Castello\, Salsom
 aggiore Terme\, PR\, 43039\, Emilia Romagna\, Italia
X-APPLE-STRUCTURED-LOCATION;VALUE=URI;X-ADDRESS=Via Castello\, 1 - Tabiano 
 Castello\, Salsomaggiore Terme\, PR\, 43039\, Emilia Romagna\, Italia;X-AP
 PLE-RADIUS=100;X-TITLE=Castello di Tabiano:geo:0,0
END:VEVENT
BEGIN:VTIMEZONE
TZID:Europe/Rome
X-LIC-LOCATION:Europe/Rome
BEGIN:DAYLIGHT
DTSTART:20260329T030000
TZOFFSETFROM:+0100
TZOFFSETTO:+0200
TZNAME:CEST
END:DAYLIGHT
END:VTIMEZONE
END:VCALENDAR