BEGIN:VCALENDAR
VERSION:2.0
PRODID:-//wp-events-plugin.com//7.2.3.1//EN
TZID:Europe/Rome
X-WR-TIMEZONE:Europe/Rome
BEGIN:VEVENT
UID:1491@castelloditabiano.com
DTSTART;TZID=Europe/Rome:20230319T150000
DTEND;TZID=Europe/Rome:20230319T150000
DTSTAMP:20230317T145643Z
URL:https://www.castelloditabiano.com/events/visita-guidata-ore-15-2023-03
 -19/
SUMMARY:Visita guidata speciale dedicata ai papà ore 15
DESCRIPTION:...prendi per la gola il tuo papà!\nIn occasione della Festa d
 el papà domenica 19 marzo al termine delle visite guidate che comprendera
 nno in via eccezionale l'antica cucina del castello i bimbi regaleranno al
  loro papà una cravatta tutta dolce... pasta frolla\, zucchero e tanta do
 lcezza per le cravatte realizzate dal nostro pasticcere Luigi Morini!\nLe 
 visite inizieranno alle ore 11\,00 e alle ore 15\,00 e dureranno un'ora ci
 rca.\n\n&nbsp\;\n\nSi informa che il parcheggio per accedere alle visite g
 uidate si trova direttamente nel cortile sul retro del Castello (chiediamo
  pertanto di non parcheggiare nei posti dedicati agli ospiti del borgo sot
 tostante). L'ingresso al parcheggio si trova di fronte alla chiesa S. Gerv
 asio.
CATEGORIES:Visite
END:VEVENT
BEGIN:VTIMEZONE
TZID:Europe/Rome
X-LIC-LOCATION:Europe/Rome
BEGIN:STANDARD
DTSTART:20221030T020000
TZOFFSETFROM:+0200
TZOFFSETTO:+0100
TZNAME:CET
END:STANDARD
END:VTIMEZONE
END:VCALENDAR