BEGIN:VCALENDAR
VERSION:2.0
PRODID:-//wp-events-plugin.com//7.2.3.1//EN
TZID:Europe/Rome
X-WR-TIMEZONE:Europe/Rome
BEGIN:VEVENT
UID:3728@castelloditabiano.com
DTSTART;TZID=Europe/Rome:20260105T150000
DTEND;TZID=Europe/Rome:20260105T150000
DTSTAMP:20251229T101207Z
URL:https://www.castelloditabiano.com/events/visita-guidata-ore-15-5-2026-
 01-05/
SUMMARY:Visita guidata ore 15
DESCRIPTION:Il Castello di Tabiano è un’abitazione privata visitabile so
 lo accompagnati da una guida del Castello. Il percorso di visita dura circ
 a 45 minuti e attraversa i luoghi più affascinanti del maniero: le antich
 e cantine a volta\, i meravigliosi saloni decorati con stucchi e affreschi
 \, lo scalone d’onore\, le terrazze panoramiche.\n\nL’ingresso con par
 cheggio si trova attraverso il cancello davanti la Chiesa di SS Gervasio e
  Protasio
CATEGORIES:Visite
LOCATION:Castello di Tabiano\, Via Castello\, 1 - Tabiano Castello\, Salsom
 aggiore Terme\, PR\, 43039\, Emilia Romagna\, Italia
X-APPLE-STRUCTURED-LOCATION;VALUE=URI;X-ADDRESS=Via Castello\, 1 - Tabiano 
 Castello\, Salsomaggiore Terme\, PR\, 43039\, Emilia Romagna\, Italia;X-AP
 PLE-RADIUS=100;X-TITLE=Castello di Tabiano:geo:0,0
END:VEVENT
BEGIN:VTIMEZONE
TZID:Europe/Rome
X-LIC-LOCATION:Europe/Rome
BEGIN:STANDARD
DTSTART:20251026T020000
TZOFFSETFROM:+0200
TZOFFSETTO:+0100
TZNAME:CET
END:STANDARD
END:VTIMEZONE
END:VCALENDAR