BEGIN:VCALENDAR
VERSION:2.0
PRODID:-//wp-events-plugin.com//7.2.3.1//EN
TZID:Europe/Rome
X-WR-TIMEZONE:Europe/Rome
BEGIN:VEVENT
UID:3716@castelloditabiano.com
DTSTART;TZID=Europe/Rome:20251208T150000
DTEND;TZID=Europe/Rome:20251208T150000
DTSTAMP:20251203T085319Z
URL:https://www.castelloditabiano.com/events/visita-guidata-ore-15-6/
SUMMARY:Visita guidata ore 15
DESCRIPTION:Il Castello di Tabiano vi aspetta con una visita guidata davver
 o unica: sarà un membro della famiglia Corazza ad accompagnarvi tra salon
 i\, terrazze e antiche cantine.\nIl percorso (circa 45 minuti) vi condurr
 à tra ambienti ricchi di fascino e storia: le antiche cantine a volta\, i
  saloni affrescati e decorati con stucchi\, lo scenografico scalone d’on
 ore e le terrazze panoramiche con viste mozzafiato sulle colline.\n&nbsp\;
 \n\nL’ingresso con parcheggio si trova attraverso il cancello davanti la
  Chiesa di SS Gervasio e Protasio
CATEGORIES:Visite
LOCATION:Castello di Tabiano\, Via Castello\, 1 - Tabiano Castello\, Salsom
 aggiore Terme\, PR\, 43039\, Emilia Romagna\, Italia
X-APPLE-STRUCTURED-LOCATION;VALUE=URI;X-ADDRESS=Via Castello\, 1 - Tabiano 
 Castello\, Salsomaggiore Terme\, PR\, 43039\, Emilia Romagna\, Italia;X-AP
 PLE-RADIUS=100;X-TITLE=Castello di Tabiano:geo:0,0
END:VEVENT
BEGIN:VTIMEZONE
TZID:Europe/Rome
X-LIC-LOCATION:Europe/Rome
BEGIN:STANDARD
DTSTART:20251026T020000
TZOFFSETFROM:+0200
TZOFFSETTO:+0100
TZNAME:CET
END:STANDARD
END:VTIMEZONE
END:VCALENDAR