BEGIN:VCALENDAR
VERSION:2.0
PRODID:-//wp-events-plugin.com//7.2.3.1//EN
TZID:Europe/Rome
X-WR-TIMEZONE:Europe/Rome
BEGIN:VEVENT
UID:1131@castelloditabiano.com
DTSTART;TZID=Europe/Rome:20220731T160000
DTEND;TZID=Europe/Rome:20220731T180000
DTSTAMP:20220728T093849Z
URL:https://www.castelloditabiano.com/events/visita-guidata-piu-spettacolo
 -di-falconeria-2/
SUMMARY:Visita guidata più spettacolo di falconeria
DESCRIPTION:La Natura offre spettacoli meravigliosi a chi sa osservare. L
 ’uomo medievale era continuamente in contatto con la Natura\, il suo pae
 saggio quotidiano era fatto di foreste popolate da animali selvaggi. La ca
 ccia era uno dei principali momenti in cui l’uomo poteva incontrare dire
 ttamente l’animale\, studiarlo\, comprenderlo e la falconeria in partico
 lare\, con il suo contatto intimo e diretto con animali selvaggi come i ra
 paci\, era per l’uomo medievale l’occasione per osservare la Natura\, 
 per conoscerla empiricamente.\nAl Castello di Tabiano quattro appuntamenti
  per ammirare da vicino aquile\, falchi\, gufi e barbagianni\, seguirne le
  prove di volo e\, con la guida di un esperto Maestro Falconiere\, conosce
 re i segreti di quest’arte antichissima e nobile\, praticata da Re e Imp
 eratori.\nPrima e dopo gli spettacoli di falconeria è possibile partecipa
 re alle visite guidate in Castello.\n\nSpettacolo falconeria:\nOrari di in
 izio ore 11.00 e ore 17.00\n\nInizio visite guidate:\nore 10.00 - ore 11.
 00 - ore 12.00 - ore 15.00 - ore 16.00 - ore 17.00 - ore 18.00\n\n(durata 
 visita 1 ora circa)\n\nPer prenotare SOLO la visita guidata al Castello\, 
 selezionare l’evento “Visita Guidata” nel calendario degli eventi.\n
 \nPer prenotare la visita guidata al Castello più la falconeria\, selezio
 nare l’evento “Visita Guidata più falconeria” nel calendario degli 
 eventi.\n\nPer prenotare SOLO lo spettacolo di falconeria\, selezionare l
 ’evento “Re in volo - spettacolo di falconeria” nel calendario degli
  eventi.\n\n(Tutte le date: domenica 17 aprile\, domenica 15 maggio\, 31 l
 uglio e 28 agosto)\n\nI CANI NON SONO AMMESSI DURANTE LO SPETTACOLO DI FAL
 CONERIA.
ATTACH;FMTTYPE=image/jpeg:https://www.castelloditabiano.com/wp-content/upl
 oads/2022/04/falconeria5-2022.png
CATEGORIES:Visite speciali
END:VEVENT
BEGIN:VTIMEZONE
TZID:Europe/Rome
X-LIC-LOCATION:Europe/Rome
BEGIN:DAYLIGHT
DTSTART:20220327T030000
TZOFFSETFROM:+0100
TZOFFSETTO:+0200
TZNAME:CEST
END:DAYLIGHT
END:VTIMEZONE
END:VCALENDAR