BEGIN:VCALENDAR
VERSION:2.0
PRODID:-//wp-events-plugin.com//7.2.3.1//EN
TZID:Europe/Rome
X-WR-TIMEZONE:Europe/Rome
BEGIN:VEVENT
UID:1125@castelloditabiano.com
DTSTART:20220731T100000Z
DTEND:20220731T120000Z
DTSTAMP:20220728T145028Z
URL:https://www.castelloditabiano.com/events/visita-guidata-piu-spettacolo
 -di-falconeria/
SUMMARY:Visita guidata più spettacolo di falconeria
DESCRIPTION:La Natura offre spettacoli meravigliosi a chi sa osservare. L
 ’uomo medievale era continuamente in contatto con la Natura\, il suo pae
 saggio quotidiano era fatto di foreste popolate da animali selvaggi. La ca
 ccia era uno dei principali momenti in cui l’uomo poteva incontrare dire
 ttamente l’animale\, studiarlo\, comprenderlo e la falconeria in partico
 lare\, con il suo contatto intimo e diretto con animali selvaggi come i ra
 paci\, era per l’uomo medievale l’occasione per osservare la Natura\, 
 per conoscerla empiricamente.\nAl Castello di Tabiano quattro appuntamenti
  per ammirare da vicino aquile\, falchi\, gufi e barbagianni\, seguirne le
  prove di volo e\, con la guida di un esperto Maestro Falconiere\, conosce
 re i segreti di quest’arte antichissima e nobile\, praticata da Re e Imp
 eratori.\nPrima e dopo gli spettacoli di falconeria è possibile partecipa
 re alle visite guidate in Castello.\n\nSpettacolo falconeria:\nOrari di in
 izio ore 11.00 e ore 17.00\n\nInizio visite guidate:\nore 10.00 - ore 11.
 00 - ore 16.00 - ore 17.00\n(durata visita 1 ora circa)\n\nPer prenotare S
 OLO la visita guidata al Castello\, selezionare l’evento “Visita Guida
 ta” nel calendario degli eventi.\n\nPer prenotare la visita guidata al C
 astello più la falconeria\, selezionare l’evento “Visita Guidata più
  falconeria” nel calendario degli eventi. \n\nPer prenotare SOLO lo spe
 ttacolo di falconeria\, selezionare l’evento “Re in volo - spettacolo 
 di falconeria” nel calendario degli eventi.\n\n(Tutte le date:  31 lugl
 io e 28 agosto)\n\nI CANI NON SONO AMMESSI DURANTE LO SPETTACOLO DI FALCON
 ERIA.
ATTACH;FMTTYPE=image/jpeg:https://www.castelloditabiano.com/wp-content/upl
 oads/2022/04/falconeria5-2022.png
CATEGORIES:Visite speciali
END:VEVENT
END:VCALENDAR