BEGIN:VCALENDAR
VERSION:2.0
PRODID:-//wp-events-plugin.com//7.2.3.1//EN
TZID:Europe/Rome
X-WR-TIMEZONE:Europe/Rome
BEGIN:VEVENT
UID:3090@castelloditabiano.com
DTSTART;TZID=Europe/Rome:20241101T100000
DTEND;TZID=Europe/Rome:20241101T170000
DTSTAMP:20241031T084319Z
URL:https://www.castelloditabiano.com/events/www-castelloditabiano-com-eve
 nts-bolly-potter-spello-di-tabiano-1/
SUMMARY:Bolly Potter e la Bolla filosofale - il nuovo spettacolo de il Boll
 aio Matto al Castello di Tabiano
DESCRIPTION:Venerdì 1 novembre al Castello di Tabiano arriva il Bollaio Ma
 tto ad incantare il pubblico con la più semplice delle magie: un po’ d
 ’acqua e di sapone trascinano nel mondo incantato di Bolly Potter.\n\n"U
 n viaggio nel mondo della magia con Bolly\, membro della Casa Grifondoro e
  discendente della famiglia Potter che fra pozioni e incantesimi proverà 
 a salvare il mondo un’altra volta…"\n\nAlle ore 11:00 e alle ore 16:00
  con il Bollaio Matto si viaggia con la fantasia tra giochi di luci\, musi
 ca\, racconti e splendide bolle di sapone.\n\nSPETTACOLO ADATTI AD APPREND
 ISTI MAGHI DAGLI 0 AI 174 ANNI\n\nVenerdì 1 novembre sarà inoltre possib
 ile visitare il Castello di Tabiano lasciandosi guidare attraverso le sue 
 sale nelle visite in programma alle ore 10:00\, 11:00\, 15:00 e 16:00.\nPr
 ogramma visite guidate:\nh 10.00\, h 11.00\, h 15.00\, h 16.00\n\nProgramm
 a spettacoli:\nh 11.00 e h 16.00\n\nmail: info@castelloditabiano.com \nc
 ell: +39 348 8955378\n\nIl parcheggio si trova appena sotto al Castello c
 on ingresso a piedi in Via Castello 1\, 43039 Salsomaggiore Terme PR.\n\n&
 nbsp\;\n\nGLI SPETTACOLI DELLE BOLLE SONO AL COMPLETO\n\n&nbsp\;\n\n\n\nÈ
  possibile anche pranzare\, cenare o godersi l’aperitivo nel nostro ris
 torante “il Caseificio” nell’Antico Borgo Tabiano Castello ai piedi 
 del Castello\, con terrazza panoramica e cortile.\nPer info e prenotazioni
 \, tel. +39 0524 88 11 68 | WhatsApp: +39 3404849570\, travel@tabianocast
 ello.com\n\nPRENOTAZIONE OBBLIGATORIA 
ATTACH;FMTTYPE=image/jpeg:https://www.castelloditabiano.com/wp-content/upl
 oads/2024/09/Bolly-potter.jpg
CATEGORIES:In evidenza,Visite
LOCATION:Castello di Tabiano\, Via Castello\, 1 - Tabiano Castello\, Salsom
 aggiore Terme\, PR\, 43039\, Emilia Romagna\, Italia
X-APPLE-STRUCTURED-LOCATION;VALUE=URI;X-ADDRESS=Via Castello\, 1 - Tabiano 
 Castello\, Salsomaggiore Terme\, PR\, 43039\, Emilia Romagna\, Italia;X-AP
 PLE-RADIUS=100;X-TITLE=Castello di Tabiano:geo:0,0
END:VEVENT
BEGIN:VTIMEZONE
TZID:Europe/Rome
X-LIC-LOCATION:Europe/Rome
BEGIN:STANDARD
DTSTART:20241027T020000
TZOFFSETFROM:+0200
TZOFFSETTO:+0100
TZNAME:CET
END:STANDARD
END:VTIMEZONE
END:VCALENDAR